Package: DirichletMultinomial Version: 1.46.0 Command: rm -rf DirichletMultinomial.buildbin-libdir && mkdir DirichletMultinomial.buildbin-libdir && /Users/biocbuild/BBS/utils/build-universal.sh DirichletMultinomial_1.46.0.tar.gz /Library/Frameworks/R.framework/Resources/bin/R DirichletMultinomial.buildbin-libdir StartedAt: 2024-10-18 18:13:10 -0400 (Fri, 18 Oct 2024) EndedAt: 2024-10-18 18:13:25 -0400 (Fri, 18 Oct 2024) EllapsedTime: 14.9 seconds RetCode: 0 Status: OK PackageFile: DirichletMultinomial_1.46.0.tgz PackageFileSize: 804.7 KiB