Package: Director Version: 1.30.0 Command: E:\biocbuild\bbs-3.19-bioc\R\bin\R.exe CMD check --no-multiarch --install=check:Director.install-out.txt --library=E:\biocbuild\bbs-3.19-bioc\R\library --no-vignettes --timings Director_1.30.0.tar.gz StartedAt: 2024-10-17 00:55:54 -0400 (Thu, 17 Oct 2024) EndedAt: 2024-10-17 00:56:27 -0400 (Thu, 17 Oct 2024) EllapsedTime: 33.1 seconds RetCode: 0 Status: OK CheckDir: Director.Rcheck Warnings: 0