Package: Director Version: 1.30.0 Command: chmod a+r Director -R && E:\biocbuild\bbs-3.19-bioc\R\bin\R.exe CMD build --keep-empty-dirs --no-resave-data Director StartedAt: 2024-10-16 18:43:50 -0400 (Wed, 16 Oct 2024) EndedAt: 2024-10-16 18:44:06 -0400 (Wed, 16 Oct 2024) EllapsedTime: 15.5 seconds RetCode: 0 Status: OK PackageFile: Director_1.30.0.tar.gz PackageFileSize: 601.1 KiB