Package: Director Version: 1.30.0 Command: rm -rf Director.buildbin-libdir && mkdir Director.buildbin-libdir && F:\biocbuild\bbs-3.19-bioc\R\bin\R.exe CMD INSTALL --build --library=Director.buildbin-libdir Director_1.30.0.tar.gz StartedAt: 2024-06-24 15:57:48 -0400 (Mon, 24 Jun 2024) EndedAt: 2024-06-24 15:58:31 -0400 (Mon, 24 Jun 2024) EllapsedTime: 42.7 seconds RetCode: 0 Status: OK PackageFile: Director_1.30.0.zip PackageFileSize: 485.2 KiB