Package: Director Version: 1.30.0 Command: /Library/Frameworks/R.framework/Resources/bin/R CMD build --keep-empty-dirs --no-resave-data Director StartedAt: 2024-10-16 18:46:55 -0400 (Wed, 16 Oct 2024) EndedAt: 2024-10-16 18:47:29 -0400 (Wed, 16 Oct 2024) EllapsedTime: 34.1 seconds RetCode: 0 Status: OK PackageFile: Director_1.30.0.tar.gz PackageFileSize: 695.1 KiB