Package: Director Version: 1.30.0 Command: /Library/Frameworks/R.framework/Resources/bin/R CMD build --keep-empty-dirs --no-resave-data Director StartedAt: 2024-06-09 16:30:05 -0400 (Sun, 09 Jun 2024) EndedAt: 2024-06-09 16:30:18 -0400 (Sun, 09 Jun 2024) EllapsedTime: 13.7 seconds RetCode: 0 Status: OK PackageFile: Director_1.30.0.tar.gz PackageFileSize: 694.4 KiB