Package: Director Version: 1.30.0 Command: /home/biocbuild/R/R-beta-2024-04-15_r86425/bin/R CMD build --keep-empty-dirs --no-resave-data Director StartedAt: 2024-05-08 23:56:38 -0000 (Wed, 08 May 2024) EndedAt: 2024-05-08 23:56:46 -0000 (Wed, 08 May 2024) EllapsedTime: 8.0 seconds RetCode: 0 Status: OK PackageFile: Director_1.30.0.tar.gz PackageFileSize: 684.2 KiB