Package: Director Version: 1.30.0 Command: rm -rf Director.buildbin-libdir && mkdir Director.buildbin-libdir && /Users/biocbuild/BBS/utils/build-universal.sh Director_1.30.0.tar.gz /Library/Frameworks/R.framework/Resources/bin/R Director.buildbin-libdir StartedAt: 2024-06-11 10:58:50 -0400 (Tue, 11 Jun 2024) EndedAt: 2024-06-11 10:58:58 -0400 (Tue, 11 Jun 2024) EllapsedTime: 8.8 seconds RetCode: 0 Status: OK PackageFile: Director_1.30.0.tgz PackageFileSize: 576.4 KiB