Package: Director Version: 1.30.0 Command: rm -rf Director.buildbin-libdir && mkdir Director.buildbin-libdir && /Users/biocbuild/BBS/utils/build-universal.sh Director_1.30.0.tar.gz /Library/Frameworks/R.framework/Resources/bin/R Director.buildbin-libdir StartedAt: 2024-10-18 18:13:03 -0400 (Fri, 18 Oct 2024) EndedAt: 2024-10-18 18:13:10 -0400 (Fri, 18 Oct 2024) EllapsedTime: 6.6 seconds RetCode: 0 Status: OK PackageFile: Director_1.30.0.tgz PackageFileSize: 576.7 KiB