Package: Dino Version: 1.10.0 Command: rm -rf Dino.buildbin-libdir && mkdir Dino.buildbin-libdir && E:\biocbuild\bbs-3.19-bioc\R\bin\R.exe CMD INSTALL --build --library=Dino.buildbin-libdir Dino_1.10.0.tar.gz StartedAt: 2024-10-17 07:41:58 -0400 (Thu, 17 Oct 2024) EndedAt: 2024-10-17 07:43:01 -0400 (Thu, 17 Oct 2024) EllapsedTime: 63.4 seconds RetCode: 0 Status: OK PackageFile: Dino_1.10.0.zip PackageFileSize: 961.3 KiB