Package: Dino Version: 1.10.0 Command: /home/biocbuild/bbs-3.19-bioc/R/bin/R CMD INSTALL Dino StartedAt: 2024-10-16 16:39:32 -0400 (Wed, 16 Oct 2024) EndedAt: 2024-10-16 16:40:10 -0400 (Wed, 16 Oct 2024) EllapsedTime: 39.0 seconds RetCode: 0 Status: OK