Package: Dino Version: 1.10.0 Command: /Library/Frameworks/R.framework/Resources/bin/R CMD check --install=check:Dino.install-out.txt --library=/Library/Frameworks/R.framework/Resources/library --no-vignettes --timings Dino_1.10.0.tar.gz StartedAt: 2024-06-09 20:01:38 -0400 (Sun, 09 Jun 2024) EndedAt: 2024-06-09 20:08:39 -0400 (Sun, 09 Jun 2024) EllapsedTime: 421.1 seconds RetCode: 0 Status: OK CheckDir: Dino.Rcheck Warnings: 0