Package: Dino Version: 1.10.0 Command: /Library/Frameworks/R.framework/Resources/bin/R CMD build --keep-empty-dirs --no-resave-data Dino StartedAt: 2024-10-16 23:23:56 -0400 (Wed, 16 Oct 2024) EndedAt: 2024-10-16 23:26:03 -0400 (Wed, 16 Oct 2024) EllapsedTime: 126.4 seconds RetCode: 0 Status: OK PackageFile: Dino_1.10.0.tar.gz PackageFileSize: 1.525 MiB