Package: Dino Version: 1.10.0 Command: rm -rf Dino.buildbin-libdir && mkdir Dino.buildbin-libdir && /Users/biocbuild/BBS/utils/build-universal.sh Dino_1.10.0.tar.gz /Library/Frameworks/R.framework/Resources/bin/R Dino.buildbin-libdir StartedAt: 2024-10-18 18:12:55 -0400 (Fri, 18 Oct 2024) EndedAt: 2024-10-18 18:13:54 -0400 (Fri, 18 Oct 2024) EllapsedTime: 58.9 seconds RetCode: 0 Status: OK PackageFile: Dino_1.10.0.tgz PackageFileSize: 1.567 MiB