Package: DifferentialRegulation Version: 2.2.2 Command: chmod a+r DifferentialRegulation -R && E:\biocbuild\bbs-3.19-bioc\R\bin\R.exe CMD build --keep-empty-dirs --no-resave-data DifferentialRegulation StartedAt: 2024-10-16 18:42:15 -0400 (Wed, 16 Oct 2024) EndedAt: 2024-10-16 18:45:54 -0400 (Wed, 16 Oct 2024) EllapsedTime: 219.0 seconds RetCode: 0 Status: OK PackageFile: DifferentialRegulation_2.2.2.tar.gz PackageFileSize: 2.414 MiB