Package: DifferentialRegulation Version: 2.2.0 Command: /Library/Frameworks/R.framework/Resources/bin/R CMD build --keep-empty-dirs --no-resave-data DifferentialRegulation StartedAt: 2024-06-09 16:28:51 -0400 (Sun, 09 Jun 2024) EndedAt: 2024-06-09 16:32:13 -0400 (Sun, 09 Jun 2024) EllapsedTime: 201.8 seconds RetCode: 0 Status: OK PackageFile: DifferentialRegulation_2.2.0.tar.gz PackageFileSize: 2.805 MiB