Package: DifferentialRegulation Version: 2.2.0 Command: /home/biocbuild/R/R-beta-2024-04-15_r86425/bin/R CMD INSTALL DifferentialRegulation StartedAt: 2024-05-08 20:20:57 -0000 (Wed, 08 May 2024) EndedAt: 2024-05-08 20:22:25 -0000 (Wed, 08 May 2024) EllapsedTime: 88.0 seconds RetCode: 0 Status: OK