Package: DifferentialRegulation Version: 2.2.2 Command: /Library/Frameworks/R.framework/Resources/bin/R CMD check --install=check:DifferentialRegulation.install-out.txt --library=/Library/Frameworks/R.framework/Resources/library --no-vignettes --timings DifferentialRegulation_2.2.2.tar.gz StartedAt: 2024-10-17 19:43:36 -0400 (Thu, 17 Oct 2024) EndedAt: 2024-10-17 19:50:21 -0400 (Thu, 17 Oct 2024) EllapsedTime: 404.8 seconds RetCode: 0 Status: OK CheckDir: DifferentialRegulation.Rcheck Warnings: 0