Package: DifferentialRegulation Version: 2.2.2 Command: rm -rf DifferentialRegulation.buildbin-libdir && mkdir DifferentialRegulation.buildbin-libdir && /Users/biocbuild/BBS/utils/build-universal.sh DifferentialRegulation_2.2.2.tar.gz /Library/Frameworks/R.framework/Resources/bin/R DifferentialRegulation.buildbin-libdir StartedAt: 2024-10-18 18:11:49 -0400 (Fri, 18 Oct 2024) EndedAt: 2024-10-18 18:12:55 -0400 (Fri, 18 Oct 2024) EllapsedTime: 66.2 seconds RetCode: 0 Status: OK PackageFile: DifferentialRegulation_2.2.2.tgz PackageFileSize: 2.962 MiB