Package: DiffLogo Version: 2.28.0 Command: rm -rf DiffLogo.buildbin-libdir && mkdir DiffLogo.buildbin-libdir && /Users/biocbuild/BBS/utils/build-universal.sh DiffLogo_2.28.0.tar.gz /Library/Frameworks/R.framework/Resources/bin/R DiffLogo.buildbin-libdir StartedAt: 2024-10-17 16:01:49 -0400 (Thu, 17 Oct 2024) EndedAt: 2024-10-17 16:01:58 -0400 (Thu, 17 Oct 2024) EllapsedTime: 9.7 seconds RetCode: 0 Status: OK PackageFile: DiffLogo_2.28.0.tgz PackageFileSize: 1.056 MiB