Package: DepecheR Version: 1.20.0 Command: /Library/Frameworks/R.framework/Resources/bin/R CMD INSTALL DepecheR StartedAt: 2024-10-16 16:21:52 -0400 (Wed, 16 Oct 2024) EndedAt: 2024-10-16 16:22:21 -0400 (Wed, 16 Oct 2024) EllapsedTime: 28.6 seconds RetCode: 0 Status: OK