Package: DepInfeR Version: 1.8.0 Command: /home/biocbuild/bbs-3.19-bioc/R/bin/R CMD INSTALL DepInfeR StartedAt: 2024-10-16 16:27:14 -0400 (Wed, 16 Oct 2024) EndedAt: 2024-10-16 16:27:20 -0400 (Wed, 16 Oct 2024) EllapsedTime: 5.4 seconds RetCode: 0 Status: OK