Package: DepInfeR Version: 1.8.0 Command: /home/biocbuild/bbs-3.19-bioc/R/bin/R CMD check --install=check:DepInfeR.install-out.txt --library=/home/biocbuild/bbs-3.19-bioc/R/site-library --timings DepInfeR_1.8.0.tar.gz StartedAt: 2024-10-16 23:42:19 -0400 (Wed, 16 Oct 2024) EndedAt: 2024-10-16 23:44:58 -0400 (Wed, 16 Oct 2024) EllapsedTime: 158.3 seconds RetCode: 0 Status: OK CheckDir: DepInfeR.Rcheck Warnings: 0