Package: DepInfeR Version: 1.8.0 Command: /home/biocbuild/bbs-3.19-bioc/R/bin/R CMD build --keep-empty-dirs --no-resave-data DepInfeR StartedAt: 2024-10-16 18:10:40 -0400 (Wed, 16 Oct 2024) EndedAt: 2024-10-16 18:11:38 -0400 (Wed, 16 Oct 2024) EllapsedTime: 58.1 seconds RetCode: 0 Status: OK PackageFile: DepInfeR_1.8.0.tar.gz PackageFileSize: 2.216 MiB