Package: DepInfeR Version: 1.8.0 Command: /Library/Frameworks/R.framework/Resources/bin/R CMD build --keep-empty-dirs --no-resave-data DepInfeR StartedAt: 2024-10-16 18:37:17 -0400 (Wed, 16 Oct 2024) EndedAt: 2024-10-16 18:39:28 -0400 (Wed, 16 Oct 2024) EllapsedTime: 131.1 seconds RetCode: 0 Status: OK PackageFile: DepInfeR_1.8.0.tar.gz PackageFileSize: 2.337 MiB