Package: DepInfeR Version: 1.8.0 Command: /Library/Frameworks/R.framework/Resources/bin/R CMD INSTALL DepInfeR StartedAt: 2024-06-09 15:30:31 -0400 (Sun, 09 Jun 2024) EndedAt: 2024-06-09 15:30:40 -0400 (Sun, 09 Jun 2024) EllapsedTime: 8.6 seconds RetCode: 0 Status: OK