Package: DepInfeR Version: 1.8.0 Command: /Library/Frameworks/R.framework/Resources/bin/R CMD check --install=check:DepInfeR.install-out.txt --library=/Library/Frameworks/R.framework/Resources/library --no-vignettes --timings DepInfeR_1.8.0.tar.gz StartedAt: 2024-06-10 13:31:27 -0400 (Mon, 10 Jun 2024) EndedAt: 2024-06-10 13:34:20 -0400 (Mon, 10 Jun 2024) EllapsedTime: 173.0 seconds RetCode: 0 Status: OK CheckDir: DepInfeR.Rcheck Warnings: 0