Package: DepInfeR Version: 1.8.0 Command: /Library/Frameworks/R.framework/Resources/bin/R CMD build --keep-empty-dirs --no-resave-data DepInfeR StartedAt: 2024-06-09 20:33:45 -0400 (Sun, 09 Jun 2024) EndedAt: 2024-06-09 20:34:53 -0400 (Sun, 09 Jun 2024) EllapsedTime: 68.0 seconds RetCode: 0 Status: OK PackageFile: DepInfeR_1.8.0.tar.gz PackageFileSize: 2.352 MiB