Package: DelayedTensor Version: 1.10.0 Command: E:\biocbuild\bbs-3.19-bioc\R\bin\R.exe CMD check --no-multiarch --install=check:DelayedTensor.install-out.txt --library=E:\biocbuild\bbs-3.19-bioc\R\library --no-vignettes --timings DelayedTensor_1.10.0.tar.gz StartedAt: 2024-10-17 00:43:51 -0400 (Thu, 17 Oct 2024) EndedAt: 2024-10-17 00:53:35 -0400 (Thu, 17 Oct 2024) EllapsedTime: 583.8 seconds RetCode: 0 Status: WARNINGS CheckDir: DelayedTensor.Rcheck Warnings: 1