Package: DelayedTensor Version: 1.10.0 Command: chmod a+r DelayedTensor -R && E:\biocbuild\bbs-3.19-bioc\R\bin\R.exe CMD build --keep-empty-dirs --no-resave-data DelayedTensor StartedAt: 2024-10-16 18:37:14 -0400 (Wed, 16 Oct 2024) EndedAt: 2024-10-16 18:43:02 -0400 (Wed, 16 Oct 2024) EllapsedTime: 348.4 seconds RetCode: 0 Status: OK PackageFile: DelayedTensor_1.10.0.tar.gz PackageFileSize: 4.129 MiB