Package: DelayedTensor Version: 1.10.0 Command: chmod a+r DelayedTensor -R && F:\biocbuild\bbs-3.19-bioc\R\bin\R.exe CMD build --keep-empty-dirs --no-resave-data DelayedTensor StartedAt: 2024-06-26 18:19:15 -0400 (Wed, 26 Jun 2024) EndedAt: 2024-06-26 18:27:24 -0400 (Wed, 26 Jun 2024) EllapsedTime: 488.8 seconds RetCode: 0 Status: OK PackageFile: DelayedTensor_1.10.0.tar.gz PackageFileSize: 4.129 MiB