Package: DelayedTensor Version: 1.10.0 Command: rm -rf DelayedTensor.buildbin-libdir && mkdir DelayedTensor.buildbin-libdir && F:\biocbuild\bbs-3.19-bioc\R\bin\R.exe CMD INSTALL --build --library=DelayedTensor.buildbin-libdir DelayedTensor_1.10.0.tar.gz StartedAt: 2024-06-27 08:06:07 -0400 (Thu, 27 Jun 2024) EndedAt: 2024-06-27 08:06:57 -0400 (Thu, 27 Jun 2024) EllapsedTime: 50.5 seconds RetCode: 0 Status: OK PackageFile: DelayedTensor_1.10.0.zip PackageFileSize: 3.102 MiB