Package: DelayedTensor Version: 1.10.0 Command: /Library/Frameworks/R.framework/Resources/bin/R CMD build --keep-empty-dirs --no-resave-data DelayedTensor StartedAt: 2024-10-16 18:34:34 -0400 (Wed, 16 Oct 2024) EndedAt: 2024-10-16 18:42:58 -0400 (Wed, 16 Oct 2024) EllapsedTime: 503.9 seconds RetCode: 0 Status: OK PackageFile: DelayedTensor_1.10.0.tar.gz PackageFileSize: 4.128 MiB