Package: DelayedTensor Version: 1.10.0 Command: /home/biocbuild/R/R-beta-2024-04-15_r86425/bin/R CMD check --install=check:DelayedTensor.install-out.txt --library=/home/biocbuild/R/R-beta-2024-04-15_r86425/site-library --no-vignettes --timings DelayedTensor_1.10.0.tar.gz StartedAt: 2024-05-09 06:39:53 -0000 (Thu, 09 May 2024) EndedAt: 2024-05-09 06:47:29 -0000 (Thu, 09 May 2024) EllapsedTime: 456.8 seconds RetCode: 0 Status: WARNINGS CheckDir: DelayedTensor.Rcheck Warnings: 1