Package: DelayedTensor Version: 1.10.0 Command: /Library/Frameworks/R.framework/Resources/bin/R CMD check --install=check:DelayedTensor.install-out.txt --library=/Library/Frameworks/R.framework/Resources/library --no-vignettes --timings DelayedTensor_1.10.0.tar.gz StartedAt: 2024-06-10 13:22:07 -0400 (Mon, 10 Jun 2024) EndedAt: 2024-06-10 13:33:27 -0400 (Mon, 10 Jun 2024) EllapsedTime: 679.4 seconds RetCode: 0 Status: WARNINGS CheckDir: DelayedTensor.Rcheck Warnings: 1