Package: DelayedTensor Version: 1.10.0 Command: /Library/Frameworks/R.framework/Resources/bin/R CMD build --keep-empty-dirs --no-resave-data DelayedTensor StartedAt: 2024-10-16 23:01:40 -0400 (Wed, 16 Oct 2024) EndedAt: 2024-10-16 23:04:15 -0400 (Wed, 16 Oct 2024) EllapsedTime: 155.4 seconds RetCode: 0 Status: OK PackageFile: DelayedTensor_1.10.0.tar.gz PackageFileSize: 4.128 MiB