Package: DelayedRandomArray Version: 1.12.0 Command: E:\biocbuild\bbs-3.19-bioc\R\bin\R.exe CMD INSTALL DelayedRandomArray StartedAt: 2024-10-16 16:13:28 -0400 (Wed, 16 Oct 2024) EndedAt: 2024-10-16 16:15:59 -0400 (Wed, 16 Oct 2024) EllapsedTime: 151.2 seconds RetCode: 0 Status: OK