Package: DelayedRandomArray Version: 1.12.0 Command: chmod a+r DelayedRandomArray -R && E:\biocbuild\bbs-3.19-bioc\R\bin\R.exe CMD build --keep-empty-dirs --no-resave-data DelayedRandomArray StartedAt: 2024-10-16 18:37:01 -0400 (Wed, 16 Oct 2024) EndedAt: 2024-10-16 18:38:14 -0400 (Wed, 16 Oct 2024) EllapsedTime: 73.7 seconds RetCode: 0 Status: OK PackageFile: DelayedRandomArray_1.12.0.tar.gz PackageFileSize: 318.5 KiB