Package: DelayedRandomArray Version: 1.12.0 Command: rm -rf DelayedRandomArray.buildbin-libdir && mkdir DelayedRandomArray.buildbin-libdir && E:\biocbuild\bbs-3.19-bioc\R\bin\R.exe CMD INSTALL --build --library=DelayedRandomArray.buildbin-libdir DelayedRandomArray_1.12.0.tar.gz StartedAt: 2024-10-17 07:40:08 -0400 (Thu, 17 Oct 2024) EndedAt: 2024-10-17 07:42:01 -0400 (Thu, 17 Oct 2024) EllapsedTime: 112.5 seconds RetCode: 0 Status: OK PackageFile: DelayedRandomArray_1.12.0.zip PackageFileSize: 984.6 KiB