Package: DelayedRandomArray Version: 1.12.0 Command: F:\biocbuild\bbs-3.19-bioc\R\bin\R.exe CMD INSTALL DelayedRandomArray StartedAt: 2024-06-26 15:47:49 -0400 (Wed, 26 Jun 2024) EndedAt: 2024-06-26 15:48:47 -0400 (Wed, 26 Jun 2024) EllapsedTime: 57.9 seconds RetCode: 0 Status: OK