Package: DelayedRandomArray Version: 1.12.0 Command: F:\biocbuild\bbs-3.19-bioc\R\bin\R.exe CMD check --no-multiarch --install=check:DelayedRandomArray.install-out.txt --library=F:\biocbuild\bbs-3.19-bioc\R\library --no-vignettes --timings DelayedRandomArray_1.12.0.tar.gz StartedAt: 2024-06-27 00:51:50 -0400 (Thu, 27 Jun 2024) EndedAt: 2024-06-27 00:54:51 -0400 (Thu, 27 Jun 2024) EllapsedTime: 181.4 seconds RetCode: 0 Status: OK CheckDir: DelayedRandomArray.Rcheck Warnings: 0