Package: DelayedRandomArray Version: 1.12.0 Command: chmod a+r DelayedRandomArray -R && F:\biocbuild\bbs-3.19-bioc\R\bin\R.exe CMD build --keep-empty-dirs --no-resave-data DelayedRandomArray StartedAt: 2024-06-26 18:18:38 -0400 (Wed, 26 Jun 2024) EndedAt: 2024-06-26 18:19:34 -0400 (Wed, 26 Jun 2024) EllapsedTime: 55.6 seconds RetCode: 0 Status: OK PackageFile: DelayedRandomArray_1.12.0.tar.gz PackageFileSize: 318.5 KiB