Package: DelayedRandomArray Version: 1.12.0 Command: rm -rf DelayedRandomArray.buildbin-libdir && mkdir DelayedRandomArray.buildbin-libdir && F:\biocbuild\bbs-3.19-bioc\R\bin\R.exe CMD INSTALL --build --library=DelayedRandomArray.buildbin-libdir DelayedRandomArray_1.12.0.tar.gz StartedAt: 2024-06-27 08:06:03 -0400 (Thu, 27 Jun 2024) EndedAt: 2024-06-27 08:07:01 -0400 (Thu, 27 Jun 2024) EllapsedTime: 58.2 seconds RetCode: 0 Status: OK PackageFile: DelayedRandomArray_1.12.0.zip PackageFileSize: 984.5 KiB