Package: DelayedRandomArray Version: 1.12.0 Command: /home/biocbuild/bbs-3.19-bioc/R/bin/R CMD build --keep-empty-dirs --no-resave-data DelayedRandomArray StartedAt: 2024-10-16 18:08:26 -0400 (Wed, 16 Oct 2024) EndedAt: 2024-10-16 18:09:08 -0400 (Wed, 16 Oct 2024) EllapsedTime: 41.1 seconds RetCode: 0 Status: OK PackageFile: DelayedRandomArray_1.12.0.tar.gz PackageFileSize: 318.4 KiB