Package: DelayedRandomArray Version: 1.12.0 Command: /Library/Frameworks/R.framework/Resources/bin/R CMD build --keep-empty-dirs --no-resave-data DelayedRandomArray StartedAt: 2024-10-16 18:34:24 -0400 (Wed, 16 Oct 2024) EndedAt: 2024-10-16 18:36:18 -0400 (Wed, 16 Oct 2024) EllapsedTime: 114.0 seconds RetCode: 0 Status: OK PackageFile: DelayedRandomArray_1.12.0.tar.gz PackageFileSize: 318.3 KiB