Package: DelayedRandomArray Version: 1.12.0 Command: rm -rf DelayedRandomArray.buildbin-libdir && mkdir DelayedRandomArray.buildbin-libdir && /Users/biocbuild/BBS/utils/build-universal.sh DelayedRandomArray_1.12.0.tar.gz /Library/Frameworks/R.framework/Resources/bin/R DelayedRandomArray.buildbin-libdir StartedAt: 2024-10-17 16:00:14 -0400 (Thu, 17 Oct 2024) EndedAt: 2024-10-17 16:01:35 -0400 (Thu, 17 Oct 2024) EllapsedTime: 81.0 seconds RetCode: 0 Status: OK PackageFile: DelayedRandomArray_1.12.0.tgz PackageFileSize: 674.8 KiB