Package: DelayedRandomArray Version: 1.12.0 Command: /Library/Frameworks/R.framework/Resources/bin/R CMD INSTALL DelayedRandomArray StartedAt: 2024-06-09 15:11:17 -0400 (Sun, 09 Jun 2024) EndedAt: 2024-06-09 15:11:59 -0400 (Sun, 09 Jun 2024) EllapsedTime: 42.7 seconds RetCode: 0 Status: OK