Package: DelayedRandomArray Version: 1.12.0 Command: rm -rf DelayedRandomArray.buildbin-libdir && mkdir DelayedRandomArray.buildbin-libdir && /Users/biocbuild/BBS/utils/build-universal.sh DelayedRandomArray_1.12.0.tar.gz /Library/Frameworks/R.framework/Resources/bin/R DelayedRandomArray.buildbin-libdir StartedAt: 2024-10-18 18:08:32 -0400 (Fri, 18 Oct 2024) EndedAt: 2024-10-18 18:09:15 -0400 (Fri, 18 Oct 2024) EllapsedTime: 42.9 seconds RetCode: 0 Status: OK PackageFile: DelayedRandomArray_1.12.0.tgz PackageFileSize: 672.4 KiB