Package: DelayedMatrixStats Version: 1.26.0 Command: /home/biocbuild/bbs-3.19-bioc/R/bin/R CMD check --install=check:DelayedMatrixStats.install-out.txt --library=/home/biocbuild/bbs-3.19-bioc/R/site-library --timings DelayedMatrixStats_1.26.0.tar.gz StartedAt: 2024-10-16 23:38:39 -0400 (Wed, 16 Oct 2024) EndedAt: 2024-10-16 23:47:34 -0400 (Wed, 16 Oct 2024) EllapsedTime: 535.1 seconds RetCode: 0 Status: OK CheckDir: DelayedMatrixStats.Rcheck Warnings: 0