Package: DelayedMatrixStats Version: 1.26.0 Command: /home/biocbuild/bbs-3.19-bioc/R/bin/R CMD build --keep-empty-dirs --no-resave-data DelayedMatrixStats StartedAt: 2024-10-16 18:08:17 -0400 (Wed, 16 Oct 2024) EndedAt: 2024-10-16 18:12:29 -0400 (Wed, 16 Oct 2024) EllapsedTime: 251.5 seconds RetCode: 0 Status: OK PackageFile: DelayedMatrixStats_1.26.0.tar.gz PackageFileSize: 264.5 KiB